BEGIN:VCALENDAR
VERSION:2.0
PRODID:-//wp-events-plugin.com//6.6.3//EN
TZID:Europe/Zurich
X-WR-TIMEZONE:Europe/Zurich
BEGIN:VEVENT
UID:995@cafarvagny.ch
DTSTART;TZID=Europe/Zurich:20170623T183000
DTEND;TZID=Europe/Zurich:20170623T223000
DTSTAMP:20170201T075630Z
URL:https://www.cafarvagny.ch/events/championnat-interne-des-adultes-3/
SUMMARY:Championnat interne des adultes
DESCRIPTION:Notre traditionnel concours interne aura lieu le vendredi 23 j
 uin 2017\, à 18h30 au départ du parcours mesurés du bois Cornard.\n\nLe
  gagnant sera celui ou celle qui aura estimé le plus précisément son te
 mps de course sur le parcours de 4.8km ou 9.2km. Venez nombreux participer
  à cette chouette soirée !!!\n\nAprès cette activité sportive\, une gr
 illade sera organisée sur place. La viande est offerte par le club. Les b
 oissons\, salades et desserts sont à apporter par les participants !\n\nP
 as d'inscription requise.
LOCATION:Cabane du Bois Cornard\, Bois Cornard\, Ecuvillens\, Suisse
GEO:46.748373;7.065736
X-APPLE-STRUCTURED-LOCATION;VALUE=URI;X-ADDRESS=Bois Cornard\, Ecuvillens\,
  Suisse;X-APPLE-RADIUS=100;X-TITLE=Cabane du Bois Cornard:geo:46.748373,7.
 065736
END:VEVENT
BEGIN:VTIMEZONE
TZID:Europe/Zurich
X-LIC-LOCATION:Europe/Zurich
BEGIN:DAYLIGHT
DTSTART:20170326T030000
TZOFFSETFROM:+0100
TZOFFSETTO:+0200
TZNAME:CEST
END:DAYLIGHT
END:VTIMEZONE
END:VCALENDAR